View In:
ArcGIS JavaScript
ArcGIS.com Map
ArcGIS Earth
ArcMap
View Footprint In:
ArcGIS.com Map
Service Description: The dataset consists of tiled orthogonal imagery produced from nadir images captured by Pictometry International. The resolution is 6 inches and the flights were in summer of 2022, beginning 05/25/2022 and ending 07/12/2022.
Name: RASTER/zzzMMexportOct
Description: The dataset consists of tiled orthogonal imagery produced from nadir images captured by Pictometry International. The resolution is 6 inches and the flights were in summer of 2022, beginning 05/25/2022 and ending 07/12/2022.
Single Fused Map Cache: false
Extent:
XMin: 2947559.94963032
YMin: 1205160.1602040678
XMax: 3137639.94963032
YMax: 1345080.1602040678
Spatial Reference: 2876
(2876)
LatestVCSWkid(0)
Initial Extent:
XMin: 2947559.94963032
YMin: 1205160.1602040678
XMax: 3137639.94963032
YMax: 1345080.1602040678
Spatial Reference: 2876
(2876)
LatestVCSWkid(0)
Full Extent:
XMin: 2947559.94963032
YMin: 1205160.1602040678
XMax: 3137639.94963032
YMax: 1345080.1602040678
Spatial Reference: 2876
(2876)
LatestVCSWkid(0)
Pixel Size X: 0.5
Pixel Size Y: 0.5
Band Count: 3
Pixel Type: U8
RasterFunction Infos: {"rasterFunctionInfos": [{
"name": "None",
"description": "",
"help": ""
}]}
Mensuration Capabilities: Basic
Has Histograms: true
Has Colormap: false
Has Multi Dimensions : false
Rendering Rule:
Min Scale: 0
Max Scale: 0
Copyright Text: Pictometry International, Boulder County GIS
Service Data Type: esriImageServiceDataTypeProcessed
Min Values: 0, 0, 0
Max Values: 255, 255, 255
Mean Values: 130.46109225899676, 126.95222246942849, 116.06468316072767
Standard Deviation Values: 53.30192844632353, 50.62255394741635, 50.17967488062888
Object ID Field:
Fields:
None
Default Mosaic Method: Center
Allowed Mosaic Methods:
SortField:
SortValue: null
Mosaic Operator: First
Default Compression Quality: 75
Default Resampling Method: Bilinear
Max Record Count: null
Max Image Height: 4100
Max Image Width: 15000
Max Download Image Count: null
Max Mosaic Image Count: null
Allow Raster Function: true
Allow Copy: null
Allow Analysis: null
Allow Compute TiePoints: false
Supports Statistics: false
Supports Advanced Queries: false
Use StandardizedQueries: true
Raster Type Infos:
Name: Raster Dataset
Description: Supports all ArcGIS Raster Datasets
Help:
Has Raster Attribute Table: false
Edit Fields Info: null
Ownership Based AccessControl For Rasters: null
Child Resources:
Info
Histograms
Key Properties
Legend
Raster Function Infos
Supported Operations:
Export Image
Identify
Measure
Compute Histograms
Compute Statistics Histograms
Get Samples
Compute Class Statistics
Query Boundary
Compute Pixel Location
Compute Angles
Validate
Project