{ "currentVersion": 10.91, "serviceDescription": "
The dataset consists of tiled orthogonal imagery produced from nadir images captured by Pictometry International. The resolution is 6 inches and the flights were in summer of 2022, beginning 05/25/2022 and ending 07/12/2022.<\/SPAN><\/P><\/DIV><\/DIV><\/DIV>",
"name": "RASTER/zzzMMexportOct",
"description": " The dataset consists of tiled orthogonal imagery produced from nadir images captured by Pictometry International. The resolution is 6 inches and the flights were in summer of 2022, beginning 05/25/2022 and ending 07/12/2022.<\/SPAN><\/P><\/DIV><\/DIV><\/DIV>",
"extent": {
"xmin": 2947559.94963032,
"ymin": 1205160.1602040678,
"xmax": 3137639.94963032,
"ymax": 1345080.1602040678,
"spatialReference": {
"wkid": 2876,
"latestWkid": 2876
}
},
"initialExtent": {
"xmin": 2947559.94963032,
"ymin": 1205160.1602040678,
"xmax": 3137639.94963032,
"ymax": 1345080.1602040678,
"spatialReference": {
"wkid": 2876,
"latestWkid": 2876
}
},
"fullExtent": {
"xmin": 2947559.94963032,
"ymin": 1205160.1602040678,
"xmax": 3137639.94963032,
"ymax": 1345080.1602040678,
"spatialReference": {
"wkid": 2876,
"latestWkid": 2876
}
},
"pixelSizeX": 0.5,
"pixelSizeY": 0.5,
"bandCount": 3,
"pixelType": "U8",
"minPixelSize": 0,
"maxPixelSize": 0,
"copyrightText": "Pictometry International, Boulder County GIS",
"serviceDataType": "esriImageServiceDataTypeProcessed",
"minValues": [
0,
0,
0
],
"maxValues": [
255,
255,
255
],
"meanValues": [
130.46109225899676,
126.95222246942849,
116.06468316072767
],
"stdvValues": [
53.30192844632353,
50.62255394741635,
50.17967488062888
],
"objectIdField": "",
"fields": [],
"capabilities": "Image,Metadata,Mensuration",
"defaultMosaicMethod": "Center",
"allowedMosaicMethods": "",
"sortField": "",
"sortValue": null,
"sortAscending": true,
"mosaicOperator": "First",
"defaultCompressionQuality": 75,
"defaultResamplingMethod": "Bilinear",
"maxImageHeight": 4100,
"maxImageWidth": 15000,
"allowRasterFunction": true,
"rasterFunctionInfos": [
{
"name": "None",
"description": "",
"help": ""
}
],
"rasterTypeInfos": [
{
"name": "Raster Dataset",
"description": "Supports all ArcGIS Raster Datasets",
"help": ""
}
],
"mensurationCapabilities": "Basic",
"hasHistograms": true,
"hasColormap": false,
"hasRasterAttributeTable": false,
"minScale": 0,
"maxScale": 0,
"exportTilesAllowed": false,
"hasMultidimensions": false,
"supportsStatistics": false,
"supportsAdvancedQueries": false,
"editFieldsInfo": null,
"ownershipBasedAccessControlForRasters": null,
"allowComputeTiePoints": false,
"useStandardizedQueries": true,
"advancedQueryCapabilities": {
"useStandardizedQueries": true,
"supportsStatistics": false,
"supportsOrderBy": false,
"supportsDistinct": false,
"supportsPagination": false
},
"spatialReference": {
"wkid": 2876,
"latestWkid": 2876
}
}