View In:
ArcGIS JavaScript
ArcGIS.com Map
ArcGIS Earth
ArcMap
View Footprint In:
ArcGIS.com Map
Service Description: Multi-Directional hillshade is a raster function that helps improve terrain visualization. It requires computing the hillshade from 6 different directions. The extent of this hillshade raster covers Boulder County. It was generated from LiDAR data captured in 2012. McKim & Creed processed the LiDAR point data into a bare earth DEM product. Boulder County GIS mosaiced the nearly 1000 tiles into a seamless raster. This hillshade raster was derived from the seamless DEM.
Name: RASTER/HILLSHADE2_5FT_COUNTY_MULTIDIR
Description: Multi-Directional hillshade is a raster function that helps improve terrain visualization. It requires computing the hillshade from 6 different directions. The extent of this hillshade raster covers Boulder County. It was generated from LiDAR data captured in 2012. McKim & Creed processed the LiDAR point data into a bare earth DEM product. Boulder County GIS mosaiced the nearly 1000 tiles into a seamless raster. This hillshade raster was derived from the seamless DEM.
Single Fused Map Cache: false
Extent:
XMin: 2945481.449630782
YMin: 1211160.1602026522
XMax: 3125346.449630782
YMax: 1339077.6602026522
Spatial Reference: 2876
(2876)
LatestVCSWkid(0)
Initial Extent:
XMin: 2945481.449630782
YMin: 1211160.1602026522
XMax: 3125346.449630782
YMax: 1339077.6602026522
Spatial Reference: 2876
(2876)
LatestVCSWkid(0)
Full Extent:
XMin: 2945481.449630782
YMin: 1211160.1602026522
XMax: 3125346.449630782
YMax: 1339077.6602026522
Spatial Reference: 2876
(2876)
LatestVCSWkid(0)
Pixel Size X: 2.5
Pixel Size Y: 2.5
Band Count: 1
Pixel Type: U8
RasterFunction Infos: {"rasterFunctionInfos": [{
"name": "None",
"description": "",
"help": ""
}]}
Mensuration Capabilities: Basic
Has Histograms: false
Has Colormap: false
Has Multi Dimensions : false
Rendering Rule:
Min Scale: 0
Max Scale: 0
Copyright Text: Boulder County McKim & Creed
Boulder County Land Use
Service Data Type: esriImageServiceDataTypeGeneric
Min Values: N/A
Max Values: N/A
Mean Values: N/A
Standard Deviation Values: N/A
Object ID Field:
Fields:
None
Default Mosaic Method: Center
Allowed Mosaic Methods:
SortField:
SortValue: null
Mosaic Operator: First
Default Compression Quality: 75
Default Resampling Method: Bilinear
Max Record Count: null
Max Image Height: 4100
Max Image Width: 15000
Max Download Image Count: null
Max Mosaic Image Count: null
Allow Raster Function: true
Allow Copy: null
Allow Analysis: null
Allow Compute TiePoints: false
Supports Statistics: false
Supports Advanced Queries: false
Use StandardizedQueries: true
Raster Type Infos:
Name: Raster Dataset
Description: Supports all ArcGIS Raster Datasets
Help:
Has Raster Attribute Table: false
Edit Fields Info: null
Ownership Based AccessControl For Rasters: null
Child Resources:
Info
Key Properties
Legend
Raster Function Infos
Supported Operations:
Export Image
Identify
Measure
Compute Histograms
Compute Statistics Histograms
Get Samples
Compute Class Statistics
Query Boundary
Compute Pixel Location
Compute Angles
Validate
Project