{ "currentVersion": 10.91, "serviceDescription": "
Multi-Directional hillshade is a raster function that helps improve terrain visualization. It requires computing the hillshade from 6 different directions. The extent of this hillshade raster covers Boulder County. It was generated from LiDAR data captured in 2012. McKim & Creed processed the LiDAR point data into a bare earth DEM product. Boulder County GIS mosaiced the nearly 1000 tiles into a seamless raster. This hillshade raster was derived from the seamless DEM.<\/SPAN><\/P> <\/P><\/DIV><\/DIV><\/DIV>",
"name": "RASTER/HILLSHADE2_5FT_COUNTY_MULTIDIR",
"description": " Multi-Directional hillshade is a raster function that helps improve terrain visualization. It requires computing the hillshade from 6 different directions. The extent of this hillshade raster covers Boulder County. It was generated from LiDAR data captured in 2012. McKim & Creed processed the LiDAR point data into a bare earth DEM product. Boulder County GIS mosaiced the nearly 1000 tiles into a seamless raster. This hillshade raster was derived from the seamless DEM.<\/SPAN><\/P> <\/P><\/DIV><\/DIV><\/DIV>",
"extent": {
"xmin": 2945481.449630782,
"ymin": 1211160.1602026522,
"xmax": 3125346.449630782,
"ymax": 1339077.6602026522,
"spatialReference": {
"wkid": 2876,
"latestWkid": 2876
}
},
"initialExtent": {
"xmin": 2945481.449630782,
"ymin": 1211160.1602026522,
"xmax": 3125346.449630782,
"ymax": 1339077.6602026522,
"spatialReference": {
"wkid": 2876,
"latestWkid": 2876
}
},
"fullExtent": {
"xmin": 2945481.449630782,
"ymin": 1211160.1602026522,
"xmax": 3125346.449630782,
"ymax": 1339077.6602026522,
"spatialReference": {
"wkid": 2876,
"latestWkid": 2876
}
},
"pixelSizeX": 2.5,
"pixelSizeY": 2.5,
"bandCount": 1,
"pixelType": "U8",
"minPixelSize": 0,
"maxPixelSize": 0,
"copyrightText": "Boulder County \nMcKim & Creed\nBoulder County Land Use",
"serviceDataType": "esriImageServiceDataTypeGeneric",
"minValues": [],
"maxValues": [],
"meanValues": [],
"stdvValues": [],
"objectIdField": "",
"fields": [],
"capabilities": "Image,Metadata,Mensuration",
"defaultMosaicMethod": "Center",
"allowedMosaicMethods": "",
"sortField": "",
"sortValue": null,
"sortAscending": true,
"mosaicOperator": "First",
"defaultCompressionQuality": 75,
"defaultResamplingMethod": "Bilinear",
"maxImageHeight": 4100,
"maxImageWidth": 15000,
"allowRasterFunction": true,
"rasterFunctionInfos": [
{
"name": "None",
"description": "",
"help": ""
}
],
"rasterTypeInfos": [
{
"name": "Raster Dataset",
"description": "Supports all ArcGIS Raster Datasets",
"help": ""
}
],
"mensurationCapabilities": "Basic",
"hasHistograms": false,
"hasColormap": false,
"hasRasterAttributeTable": false,
"minScale": 0,
"maxScale": 0,
"exportTilesAllowed": false,
"hasMultidimensions": false,
"supportsStatistics": false,
"supportsAdvancedQueries": false,
"editFieldsInfo": null,
"ownershipBasedAccessControlForRasters": null,
"allowComputeTiePoints": false,
"useStandardizedQueries": true,
"advancedQueryCapabilities": {
"useStandardizedQueries": true,
"supportsStatistics": false,
"supportsOrderBy": false,
"supportsDistinct": false,
"supportsPagination": false
},
"spatialReference": {
"wkid": 2876,
"latestWkid": 2876
}
}