View In:
ArcGIS JavaScript
ArcGIS.com Map
ArcGIS Earth
ArcMap
View Footprint In:
ArcGIS.com Map
Service Description: This Wildfire Hazard map is a combination of the likehood of wildfire occurrence and the anticipated fire intensity across the county. This map is the starting point for the Boulder County Land Use Department to assess wildfire hazard for the purpose of requiring ignition-resistant building construction. See Boulder County Community Wildfire Protection Plan and Boulder County Building Code Amendments for more information.
Name: Hazards/RASTER_RASTER_BCBC_WILDFIREHAZARD
Description: This Wildfire Hazard map is a combination of the likehood of wildfire occurrence and the anticipated fire intensity across the county. This map is the starting point for the Boulder County Land Use Department to assess wildfire hazard for the purpose of requiring ignition-resistant building construction. See Boulder County Community Wildfire Protection Plan and Boulder County Building Code Amendments for more information.
Single Fused Map Cache: false
Extent:
XMin: 2940439.4346237294
YMin: 1207192.1979924792
XMax: 3147722.484623827
YMax: 1346758.8479925452
Spatial Reference: 2876
(2876)
LatestVCSWkid(0)
Initial Extent:
XMin: 2940439.4346237294
YMin: 1207192.1979924792
XMax: 3147722.484623827
YMax: 1346758.8479925452
Spatial Reference: 2876
(2876)
LatestVCSWkid(0)
Full Extent:
XMin: 2940439.4346237294
YMin: 1207192.1979924792
XMax: 3147722.484623827
YMax: 1346758.8479925452
Spatial Reference: 2876
(2876)
LatestVCSWkid(0)
Pixel Size X: 196.85000000009268
Pixel Size Y: 196.85000000009313
Band Count: 1
Pixel Type: U8
RasterFunction Infos: {"rasterFunctionInfos": [{
"name": "None",
"description": "",
"help": ""
}]}
Mensuration Capabilities: Basic
Has Histograms: true
Has Colormap: false
Has Multi Dimensions : false
Rendering Rule:
Min Scale: 0
Max Scale: 0
Copyright Text: Boulder County Land Use Department
Service Data Type: esriImageServiceDataTypeGeneric
Min Values: 1
Max Values: 4
Mean Values: 1.998098475214813
Standard Deviation Values: 0.8338351404179203
Object ID Field:
Fields:
None
Default Mosaic Method: Center
Allowed Mosaic Methods:
SortField:
SortValue: null
Mosaic Operator: First
Default Compression Quality: 75
Default Resampling Method: Bilinear
Max Record Count: null
Max Image Height: 4100
Max Image Width: 15000
Max Download Image Count: null
Max Mosaic Image Count: null
Allow Raster Function: true
Allow Copy: null
Allow Analysis: null
Allow Compute TiePoints: false
Supports Statistics: false
Supports Advanced Queries: false
Use StandardizedQueries: true
Raster Type Infos:
Name: Raster Dataset
Description: Supports all ArcGIS Raster Datasets
Help:
Has Raster Attribute Table: true
Edit Fields Info: null
Ownership Based AccessControl For Rasters: null
Child Resources:
Info
Raster Attribute Table
Histograms
Key Properties
Legend
Raster Function Infos
Supported Operations:
Export Image
Identify
Measure
Compute Histograms
Compute Statistics Histograms
Get Samples
Compute Class Statistics
Query Boundary
Compute Pixel Location
Compute Angles
Validate
Project