{ "currentVersion": 10.91, "serviceDescription": "
This Wildfire Hazard map is a combination of the likehood of wildfire occurrence and the anticipated fire intensity across the county. This map is the starting point for the Boulder County Land Use Department to assess wildfire hazard for the purpose of requiring ignition-resistant building construction. See Boulder County Community Wildfire Protection Plan and Boulder County Building Code Amendments for more information. <\/SPAN><\/SPAN><\/P> <\/P><\/DIV><\/DIV><\/DIV>",
"name": "Hazards/RASTER_RASTER_BCBC_WILDFIREHAZARD",
"description": " This Wildfire Hazard map is a combination of the likehood of wildfire occurrence and the anticipated fire intensity across the county. This map is the starting point for the Boulder County Land Use Department to assess wildfire hazard for the purpose of requiring ignition-resistant building construction. See Boulder County Community Wildfire Protection Plan and Boulder County Building Code Amendments for more information. <\/SPAN><\/SPAN><\/P> <\/P><\/DIV><\/DIV><\/DIV>",
"extent": {
"xmin": 2940439.4346237294,
"ymin": 1207192.1979924792,
"xmax": 3147722.484623827,
"ymax": 1346758.8479925452,
"spatialReference": {
"wkid": 2876,
"latestWkid": 2876
}
},
"initialExtent": {
"xmin": 2940439.4346237294,
"ymin": 1207192.1979924792,
"xmax": 3147722.484623827,
"ymax": 1346758.8479925452,
"spatialReference": {
"wkid": 2876,
"latestWkid": 2876
}
},
"fullExtent": {
"xmin": 2940439.4346237294,
"ymin": 1207192.1979924792,
"xmax": 3147722.484623827,
"ymax": 1346758.8479925452,
"spatialReference": {
"wkid": 2876,
"latestWkid": 2876
}
},
"pixelSizeX": 196.85000000009268,
"pixelSizeY": 196.85000000009313,
"bandCount": 1,
"pixelType": "U8",
"minPixelSize": 0,
"maxPixelSize": 0,
"copyrightText": "Boulder County Land Use Department",
"serviceDataType": "esriImageServiceDataTypeGeneric",
"minValues": [
1
],
"maxValues": [
4
],
"meanValues": [
1.998098475214813
],
"stdvValues": [
0.8338351404179203
],
"objectIdField": "",
"fields": [],
"capabilities": "Image,Metadata,Mensuration",
"defaultMosaicMethod": "Center",
"allowedMosaicMethods": "",
"sortField": "",
"sortValue": null,
"sortAscending": true,
"mosaicOperator": "First",
"defaultCompressionQuality": 75,
"defaultResamplingMethod": "Bilinear",
"maxImageHeight": 4100,
"maxImageWidth": 15000,
"allowRasterFunction": true,
"rasterFunctionInfos": [
{
"name": "None",
"description": "",
"help": ""
}
],
"rasterTypeInfos": [
{
"name": "Raster Dataset",
"description": "Supports all ArcGIS Raster Datasets",
"help": ""
}
],
"mensurationCapabilities": "Basic",
"hasHistograms": true,
"hasColormap": false,
"hasRasterAttributeTable": true,
"minScale": 0,
"maxScale": 0,
"exportTilesAllowed": false,
"hasMultidimensions": false,
"supportsStatistics": false,
"supportsAdvancedQueries": false,
"editFieldsInfo": null,
"ownershipBasedAccessControlForRasters": null,
"allowComputeTiePoints": false,
"useStandardizedQueries": true,
"advancedQueryCapabilities": {
"useStandardizedQueries": true,
"supportsStatistics": false,
"supportsOrderBy": false,
"supportsDistinct": false,
"supportsPagination": false
},
"spatialReference": {
"wkid": 2876,
"latestWkid": 2876
}
}