View In:
ArcGIS JavaScript
ArcGIS.com Map
ArcGIS Earth
ArcMap
View Footprint In:
ArcGIS.com Map
Service Description: Elevation data
Name: Elevation/DEM_10M
Description: Elevation data
Single Fused Map Cache: false
Extent:
XMin: 2928656.6046657357
YMin: 1196530.8107572168
XMax: 3140183.638577749
YMax: 1380718.5088664824
Spatial Reference: 2876
(2876)
LatestVCSWkid(0)
Initial Extent:
XMin: 2928656.6046657357
YMin: 1196530.8107572168
XMax: 3140183.638577749
YMax: 1380718.5088664824
Spatial Reference: 2876
(2876)
LatestVCSWkid(0)
Full Extent:
XMin: 2928656.6046657357
YMin: 1196530.8107572168
XMax: 3140183.638577749
YMax: 1380718.5088664824
Spatial Reference: 2876
(2876)
LatestVCSWkid(0)
Pixel Size X: 32.820331095735185
Pixel Size Y: 32.82033109573515
Band Count: 1
Pixel Type: F32
RasterFunction Infos: {"rasterFunctionInfos": [{
"name": "None",
"description": "",
"help": ""
}]}
Mensuration Capabilities: Basic
Has Histograms: true
Has Colormap: false
Has Multi Dimensions : false
Rendering Rule:
Min Scale: 0
Max Scale: 0
Copyright Text:
Service Data Type: esriImageServiceDataTypeGeneric
Min Values: 4832.4287109375
Max Values: 17789.138671875
Mean Values: 7657.038191688568
Standard Deviation Values: 2263.2735529840124
Object ID Field:
Fields:
None
Default Mosaic Method: Center
Allowed Mosaic Methods:
SortField:
SortValue: null
Mosaic Operator: First
Default Compression Quality: 75
Default Resampling Method: Bilinear
Max Record Count: null
Max Image Height: 4100
Max Image Width: 15000
Max Download Image Count: null
Max Mosaic Image Count: null
Allow Raster Function: true
Allow Copy: null
Allow Analysis: null
Allow Compute TiePoints: false
Supports Statistics: false
Supports Advanced Queries: false
Use StandardizedQueries: true
Raster Type Infos:
Name: Raster Dataset
Description: Supports all ArcGIS Raster Datasets
Help:
Has Raster Attribute Table: false
Edit Fields Info: null
Ownership Based AccessControl For Rasters: null
Child Resources:
Info
Histograms
Key Properties
Legend
Raster Function Infos
Supported Operations:
Export Image
Identify
Measure
Compute Histograms
Compute Statistics Histograms
Get Samples
Compute Class Statistics
Query Boundary
Compute Pixel Location
Compute Angles
Validate
Project