{
 "currentVersion": 10.91,
 "serviceDescription": "Elevation data",
 "name": "Elevation/DEM_10M",
 "description": "Elevation data",
 "extent": {
  "xmin": 2928656.6046657357,
  "ymin": 1196530.8107572168,
  "xmax": 3140183.638577749,
  "ymax": 1380718.5088664824,
  "spatialReference": {
   "wkid": 2876,
   "latestWkid": 2876
  }
 },
 "initialExtent": {
  "xmin": 2928656.6046657357,
  "ymin": 1196530.8107572168,
  "xmax": 3140183.638577749,
  "ymax": 1380718.5088664824,
  "spatialReference": {
   "wkid": 2876,
   "latestWkid": 2876
  }
 },
 "fullExtent": {
  "xmin": 2928656.6046657357,
  "ymin": 1196530.8107572168,
  "xmax": 3140183.638577749,
  "ymax": 1380718.5088664824,
  "spatialReference": {
   "wkid": 2876,
   "latestWkid": 2876
  }
 },
 "pixelSizeX": 32.820331095735185,
 "pixelSizeY": 32.82033109573515,
 "bandCount": 1,
 "pixelType": "F32",
 "minPixelSize": 0,
 "maxPixelSize": 0,
 "copyrightText": "",
 "serviceDataType": "esriImageServiceDataTypeGeneric",
 "minValues": [
  4832.4287109375
 ],
 "maxValues": [
  17789.138671875
 ],
 "meanValues": [
  7657.038191688568
 ],
 "stdvValues": [
  2263.2735529840124
 ],
 "objectIdField": "",
 "fields": [],
 "capabilities": "Mensuration,Image,Metadata",
 "defaultMosaicMethod": "Center",
 "allowedMosaicMethods": "",
 "sortField": "",
 "sortValue": null,
 "sortAscending": true,
 "mosaicOperator": "First",
 "defaultCompressionQuality": 75,
 "defaultResamplingMethod": "Bilinear",
 "maxImageHeight": 4100,
 "maxImageWidth": 15000,
 "allowRasterFunction": true,
 "rasterFunctionInfos": [
  {
   "name": "None",
   "description": "",
   "help": ""
  }
 ],
 "rasterTypeInfos": [
  {
   "name": "Raster Dataset",
   "description": "Supports all ArcGIS Raster Datasets",
   "help": ""
  }
 ],
 "mensurationCapabilities": "Basic",
 "hasHistograms": true,
 "hasColormap": false,
 "hasRasterAttributeTable": false,
 "minScale": 0,
 "maxScale": 0,
 "exportTilesAllowed": false,
 "hasMultidimensions": false,
 "supportsStatistics": false,
 "supportsAdvancedQueries": false,
 "editFieldsInfo": null,
 "ownershipBasedAccessControlForRasters": null,
 "allowComputeTiePoints": false,
 "useStandardizedQueries": true,
 "advancedQueryCapabilities": {
  "useStandardizedQueries": true,
  "supportsStatistics": false,
  "supportsOrderBy": false,
  "supportsDistinct": false,
  "supportsPagination": false
 },
 "spatialReference": {
  "wkid": 2876,
  "latestWkid": 2876
 }
}
